BEGIN:VCALENDAR
PRODID:-//Calendar export
VERSION:2.0
X-WR-TIMEZONE:Etc/GMT
BEGIN:VTIMEZONE
TZID:GMT Standard Time
BEGIN:STANDARD
TZOFFSETFROM:+0000
TZOFFSETTO:+0000
END:STANDARD
END:VTIMEZONE
BEGIN:VEVENT
UID:AE534
DTSTAMP:20260421T153400Z
SUMMARY:Tri County Chapter - Chenango County Court House Tour
CLASS:PUBLIC
DESCRIPTION:Tri County Chapter - Chenango County Court House Tour
STATUS:CONFIRMED
PRIORITY:1
DTSTART:20191120T223000Z
DTEND:20191121T003000Z
TRANSP:OPAQUE
END:VEVENT
END:VCALENDAR
