BEGIN:VCALENDAR
PRODID:-//Calendar export
VERSION:2.0
X-WR-TIMEZONE:Etc/GMT
BEGIN:VTIMEZONE
TZID:GMT Standard Time
BEGIN:STANDARD
TZOFFSETFROM:+0000
TZOFFSETTO:+0000
END:STANDARD
END:VTIMEZONE
BEGIN:VEVENT
UID:AE533
DTSTAMP:20260421T155000Z
SUMMARY:Richmond County Chapter - Scholarship Fundraiser
CLASS:PUBLIC
DESCRIPTION:Richmond County Chapter - Scholarship Fundraiser
STATUS:CONFIRMED
PRIORITY:1
DTSTART:20191108T000000Z
DTEND:20191108T020000Z
TRANSP:OPAQUE
END:VEVENT
END:VCALENDAR
