BEGIN:VCALENDAR
PRODID:-//Calendar export
VERSION:2.0
X-WR-TIMEZONE:Etc/GMT
BEGIN:VTIMEZONE
TZID:GMT Standard Time
BEGIN:STANDARD
TZOFFSETFROM:+0000
TZOFFSETTO:+0000
END:STANDARD
END:VTIMEZONE
BEGIN:VEVENT
UID:AE532
DTSTAMP:20260421T152900Z
SUMMARY:Greater Binghamton Chapter - Vendor Night
CLASS:PUBLIC
DESCRIPTION:Greater Binghamton Chapter - Vendor Night
STATUS:CONFIRMED
PRIORITY:1
DTSTART:20191113T223000Z
DTEND:20191114T003000Z
TRANSP:OPAQUE
END:VEVENT
END:VCALENDAR
